BEGIN:VCALENDAR
VERSION:2.0
PRODID:-//La Carte aux Epices - ECPv6.15.18//NONSGML v1.0//EN
CALSCALE:GREGORIAN
METHOD:PUBLISH
X-WR-CALNAME:La Carte aux Epices
X-ORIGINAL-URL:https://lacarteauxepices.fr
X-WR-CALDESC:Évènements pour La Carte aux Epices
REFRESH-INTERVAL;VALUE=DURATION:PT1H
X-Robots-Tag:noindex
X-PUBLISHED-TTL:PT1H
BEGIN:VTIMEZONE
TZID:Europe/Paris
BEGIN:DAYLIGHT
TZOFFSETFROM:+0100
TZOFFSETTO:+0200
TZNAME:CEST
DTSTART:20250330T010000
END:DAYLIGHT
BEGIN:STANDARD
TZOFFSETFROM:+0200
TZOFFSETTO:+0100
TZNAME:CET
DTSTART:20251026T010000
END:STANDARD
BEGIN:DAYLIGHT
TZOFFSETFROM:+0100
TZOFFSETTO:+0200
TZNAME:CEST
DTSTART:20260329T010000
END:DAYLIGHT
BEGIN:STANDARD
TZOFFSETFROM:+0200
TZOFFSETTO:+0100
TZNAME:CET
DTSTART:20261025T010000
END:STANDARD
BEGIN:DAYLIGHT
TZOFFSETFROM:+0100
TZOFFSETTO:+0200
TZNAME:CEST
DTSTART:20270328T010000
END:DAYLIGHT
BEGIN:STANDARD
TZOFFSETFROM:+0200
TZOFFSETTO:+0100
TZNAME:CET
DTSTART:20271031T010000
END:STANDARD
END:VTIMEZONE
BEGIN:VEVENT
DTSTART;TZID=Europe/Paris:20260523T080000
DTEND;TZID=Europe/Paris:20260523T170000
DTSTAMP:20260419T153053
CREATED:20251023T070448Z
LAST-MODIFIED:20260311T084109Z
UID:21781-1779523200-1779555600@lacarteauxepices.fr
SUMMARY:Les Floralies du Lions Club - Parc de la Brunetterie - ORGEVAL (78630)
DESCRIPTION:Plus d’informations très prochainement !
URL:https://lacarteauxepices.fr/evenement/les-floralies-du-lions-club-parc-de-la-brunetterie-orgeval-78630/
CATEGORIES:Fêtes des plantes
ATTACH;FMTTYPE=image/png:https://lacarteauxepices.fr/wp-content/uploads/evenements-les-floralies-du-lions-club-orgeval-2026.png
END:VEVENT
END:VCALENDAR